BEGIN:VCALENDAR
VERSION:2.0
PRODID:-//TORNOS - India - ECPv6.15.17//NONSGML v1.0//EN
CALSCALE:GREGORIAN
METHOD:PUBLISH
X-ORIGINAL-URL:https://tornosindia.com
X-WR-CALDESC:Events for TORNOS - India
REFRESH-INTERVAL;VALUE=DURATION:PT1H
X-Robots-Tag:noindex
X-PUBLISHED-TTL:PT1H
BEGIN:VTIMEZONE
TZID:Europe/London
BEGIN:DAYLIGHT
TZOFFSETFROM:+0000
TZOFFSETTO:+0100
TZNAME:BST
DTSTART:20190331T010000
END:DAYLIGHT
BEGIN:STANDARD
TZOFFSETFROM:+0100
TZOFFSETTO:+0000
TZNAME:GMT
DTSTART:20191027T010000
END:STANDARD
BEGIN:DAYLIGHT
TZOFFSETFROM:+0000
TZOFFSETTO:+0100
TZNAME:BST
DTSTART:20200329T010000
END:DAYLIGHT
BEGIN:STANDARD
TZOFFSETFROM:+0100
TZOFFSETTO:+0000
TZNAME:GMT
DTSTART:20201025T010000
END:STANDARD
BEGIN:DAYLIGHT
TZOFFSETFROM:+0000
TZOFFSETTO:+0100
TZNAME:BST
DTSTART:20210328T010000
END:DAYLIGHT
BEGIN:STANDARD
TZOFFSETFROM:+0100
TZOFFSETTO:+0000
TZNAME:GMT
DTSTART:20211031T010000
END:STANDARD
END:VTIMEZONE
BEGIN:VTIMEZONE
TZID:Asia/Kolkata
BEGIN:STANDARD
TZOFFSETFROM:+0530
TZOFFSETTO:+0530
TZNAME:IST
DTSTART:20190101T000000
END:STANDARD
END:VTIMEZONE
BEGIN:VEVENT
DTSTART;TZID=Europe/London:20200625T180000
DTEND;TZID=Europe/London:20200625T210000
DTSTAMP:20260426T014611
CREATED:20200131T053626Z
LAST-MODIFIED:20200616T070445Z
UID:1719-1593108000-1593118800@tornosindia.com
SUMMARY:Tornos' Knowledge Evening - 2020
DESCRIPTION:Our Annual ‘Knowledge Evening’ takes place at Taj St James’ Court Hotel in London. Topic awaited… The Talk/Presentation will be followed by Drinks & Dinner (EVENT STRICTLY BY INVITATION).  \nWatch a video from our last Knowledge Evening (2019) : https://www.youtube.com/watch?v=LH7W2SXSlJg
URL:https://tornosindia.com/event/tornos-knowledge-evening-2020/
CATEGORIES:Off-Site
ATTACH;FMTTYPE=image/png:https://tornosindia.com/wp-content/uploads/2019/12/logo.png
END:VEVENT
BEGIN:VEVENT
DTSTART;TZID=Asia/Kolkata:20200629T190000
DTEND;TZID=Asia/Kolkata:20200629T210000
DTSTAMP:20260426T014611
CREATED:20200313T123611Z
LAST-MODIFIED:20200313T123652Z
UID:2327-1593457200-1593464400@tornosindia.com
SUMMARY:Meet Prateek Hira of Tornos at ATM-Dubai
DESCRIPTION:Prateek Hira will be hosting a meet & greet dinner in Dubai as a part of Arabian Travel Market in Dubai. With prior appointments and invites this company presentation may be attended. Tornos Destination Knowledge presentation will be followed by drinks and dinner. 
URL:https://tornosindia.com/event/meet-prateek-hira-of-tornos-at-atm-dubai/
CATEGORIES:Off-Site
END:VEVENT
END:VCALENDAR